BEGIN:VCALENDAR
VERSION:2.0
PRODID:-//arborgalleryfineart.com - ECPv6.6.0.2//NONSGML v1.0//EN
CALSCALE:GREGORIAN
METHOD:PUBLISH
X-WR-CALNAME:arborgalleryfineart.com
X-ORIGINAL-URL:https://arborgalleryfineart.com
X-WR-CALDESC:Events for arborgalleryfineart.com
REFRESH-INTERVAL;VALUE=DURATION:PT1H
X-Robots-Tag:noindex
X-PUBLISHED-TTL:PT1H
BEGIN:VTIMEZONE
TZID:America/Los_Angeles
BEGIN:DAYLIGHT
TZOFFSETFROM:-0800
TZOFFSETTO:-0700
TZNAME:PDT
DTSTART:20240310T100000
END:DAYLIGHT
BEGIN:STANDARD
TZOFFSETFROM:-0700
TZOFFSETTO:-0800
TZNAME:PST
DTSTART:20241103T090000
END:STANDARD
END:VTIMEZONE
BEGIN:VEVENT
DTSTART;TZID=America/Los_Angeles:20241220T173000
DTEND;TZID=America/Los_Angeles:20241220T203000
DTSTAMP:20260425T180057
CREATED:20241118T193125Z
LAST-MODIFIED:20241118T193125Z
UID:2694-1734715800-1734726600@arborgalleryfineart.com
SUMMARY:December 2024 Art & Spirits at The MAC
DESCRIPTION:“Two Turtle Doves”\n\n\n\n\n\n\n\n\n\n\n\n\n\nArt & Spirits at The MAC\n“Two Turtle Doves”\nDecember 20\, 2024\n5:30 – 8:30 pm\nLed by Artist Karen McComb\n\n\n\n\n\n\n\n\n\n\n\n\n\n\n\nJoin us for a Home Alone 2-Themed Art & Spirits Night!\n\nUnwind\, paint\, and embrace the holiday spirit with artist Karen McComb as she guides you step-by-step through creating Two Turtle Doves\, a heartfelt painting inspired by the season AND the movie Home Alone 2!\nThe evening will be filled with fun Home Alone trivia\, games\, and prizes! As a special touch\, each participant will receive a pair of turtle doves\, just like in the movie. In Home Alone 2\, Kevin learns that turtle doves symbolize love and friendship\, making them the perfect gift to share with someone YOU care about.\n\nBring your holiday besties\, rock your favorite ugly sweater\, and indulge in festive treats and drinks while soaking up the holiday cheer. Whether you’re new to painting or a seasoned artist\, this joyful event is a wonderful way to celebrate the season and create lasting memories.\nSpots are limited\, so grab yours now for a night of art\, fun\, and holiday spirit!\n\nReserve your spot by now!• Scan the QR code• On our website\n\n\nSeating is limited.  Use the QR code below to reserve your spot\, or sign up from here on our website:   Sign Up for Art and Spirits – arborgalleryfineart.com\n\n\n\n\n\n\n\n\n\n\n\n\n\n \n\n\n\n\n\n\n\n\n\n\n\n\n  \n 
URL:https://arborgalleryfineart.com/index.php/event/december-2024-art-spirits-at-the-mac-2/
LOCATION:Arbor Gallery\, 645 W Main Street\, Merced\, California\, 95340\, United States
CATEGORIES:Art & Spirits,Art Education,Community Event
ATTACH;FMTTYPE=image/jpeg:https://arborgalleryfineart.com/wp-content/uploads/2024/11/Two-Turtle-Dovesa.jpg
ORGANIZER;CN="Arbor Gallery":MAILTO:arborgalleryfineart@gmail.com
END:VEVENT
BEGIN:VEVENT
DTSTART;TZID=America/Los_Angeles:20241115T173000
DTEND;TZID=America/Los_Angeles:20241115T203000
DTSTAMP:20260425T180057
CREATED:20241020T185440Z
LAST-MODIFIED:20241021T172219Z
UID:2618-1731691800-1731702600@arborgalleryfineart.com
SUMMARY:November 2024 Art & Spirits at The MAC
DESCRIPTION:“Deck the Antlers”\n\n\n\n\n\n\n\n\n\n\n\n\n\nArt & Spirits at The MAC\n“Deck the Antlers”\nNovember 15\, 2024\n5:30 – 8:30 pm\nLed by Artist Carole Kamerer\n\n\n\n\n\n\n\n\n\n\n\n\n\n\n\nJoin us for a merry and bright evening of Art & Spirits! \nUnwind\, paint\, and connect – let the warmth of the season inspire you as you bring this delightful artwork to life! \nJoin artist Carole Kamerer as she guides you through “Deck the Antlers”\, step-by-step. This design is perfect for everyone\, from first-time painters to seasoned pros. No matter your experience level\, you’ll have all the guidance and support you need to create a holiday keepsake you’ll be proud to display! \nInvite your holiday crew—elves\, reindeer\, your favorite holiday mischief makers—and enjoy cozy holiday treats and drinks. Ugly holiday sweaters are highly encouraged\, and the festive spirit is a must! \nSpots fill up fast for Merced’s favorite paint night\, so be sure to grab your seat for a night of seasonal sparkle and fun! \n\nSeating is limited.  Use the QR code below to reserve your spot\, or sign up from here on our website:   Sign Up for Art and Spirits – arborgalleryfineart.com\n\n\n\n\n\n\n\n\n\n\n\n\n\n \n\n\n\n\n\n\n\n\n\n\n\n\n  \n 
URL:https://arborgalleryfineart.com/index.php/event/november-2024-art-spirits-at-the-mac/
LOCATION:Arbor Gallery\, 645 W Main Street\, Merced\, California\, 95340\, United States
CATEGORIES:Art & Spirits,Art Education,Community Event
ATTACH;FMTTYPE=image/jpeg:https://arborgalleryfineart.com/wp-content/uploads/2024/10/Deck-the-Antlers-sq-web.jpg
ORGANIZER;CN="Arbor Gallery":MAILTO:arborgalleryfineart@gmail.com
END:VEVENT
BEGIN:VEVENT
DTSTART;TZID=America/Los_Angeles:20241018T173000
DTEND;TZID=America/Los_Angeles:20241018T203000
DTSTAMP:20260425T180057
CREATED:20240923T202106Z
LAST-MODIFIED:20241015T181100Z
UID:2323-1729272600-1729283400@arborgalleryfineart.com
SUMMARY:October 2024 Art & Spirits at The MAC
DESCRIPTION:“Buddies for Halloween”\n\n\n\n\n\n\n\n\n\n\n\n\n\nArt & Spirits at The MAC\n“Buddies for Halloween”\nOctober 18\, 2024\n5:30 – 8:30 pm\nLed by Artist Stephanie McLeod\n\n\n\n\n\n\n\n\n\n\n\n\n\n\nJoin us for a Spooktacular Night with Art & Spirits – paint ‘Buddies for Halloween’ and capture the essence of the fall harvest and trick-or-treat season! Gather your favorite ghouls and goblins\, grab some snacks and drinks and paint this festive canvas while wearing your favorite costume (encouraged\, not required!).\n\n\nJoin us!\n\n\nSeating is limited.  Use the QR code below to reserve your spot\, or sign up from here on our website:   Sign Up for Art and Spirits – arborgalleryfineart.com\n\n\n\n\n\n\n\n\n\n\n\n\n\n \n\n\n\n\n\n\n\n\n\n\n\n\n  \n 
URL:https://arborgalleryfineart.com/index.php/event/october-2024-art-spirits-at-the-mac/
LOCATION:Arbor Gallery\, 645 W Main Street\, Merced\, California\, 95340\, United States
CATEGORIES:Art & Spirits,Art Education,Community Event
ATTACH;FMTTYPE=image/jpeg:https://arborgalleryfineart.com/wp-content/uploads/2024/09/8L3A9892-web.jpg
ORGANIZER;CN="Arbor Gallery":MAILTO:arborgalleryfineart@gmail.com
END:VEVENT
BEGIN:VEVENT
DTSTART;TZID=America/Los_Angeles:20240920T173000
DTEND;TZID=America/Los_Angeles:20240920T203000
DTSTAMP:20260425T180057
CREATED:20240906T233249Z
LAST-MODIFIED:20240906T233918Z
UID:2301-1726853400-1726864200@arborgalleryfineart.com
SUMMARY:September 2024 Art & Spirits at The MAC
DESCRIPTION:“Masts in the Mist”\n\n\n\n\n\n\n\n\n\n\n\n\n\nArt & Spirits at The MAC\n“Masts in the Mist”\nSeptember 20\, 2024\n5:30 – 8:30 pm\nLed by Artist John Harrell\n\n\n\n\n\n\n\n\n\n\n\n\n\n\nSet sail with Art & Spirits!  Join us to paint ‘Masts in the Mist’ and capture the serene beauty of a sloop gliding through SF harbor. Unwind\, get creative\, and feel the sea breeze—sign up now!\n\n\nJoin us!\n\n\nSeating is limited.  Use the QR code below to reserve your spot\, or sign up from here on our website:   Sign Up for Art and Spirits – arborgalleryfineart.com\n\n\n\n\n\n\n\n\n\n\n\n\n\n \n\n\n\n\n\n\n\n\n\n\n\n\n  \n 
URL:https://arborgalleryfineart.com/index.php/event/september-2024-art-spirits-at-the-mac/
LOCATION:Arbor Gallery\, 645 W Main Street\, Merced\, California\, 95340\, United States
CATEGORIES:Art & Spirits,Art Education,Community Event
ATTACH;FMTTYPE=image/jpeg:https://arborgalleryfineart.com/wp-content/uploads/2024/08/20240816_142320-copy.jpg
ORGANIZER;CN="Arbor Gallery":MAILTO:arborgalleryfineart@gmail.com
END:VEVENT
BEGIN:VEVENT
DTSTART;TZID=America/Los_Angeles:20240816T173000
DTEND;TZID=America/Los_Angeles:20240816T203000
DTSTAMP:20260425T180057
CREATED:20240726T210354Z
LAST-MODIFIED:20240726T212227Z
UID:2236-1723829400-1723840200@arborgalleryfineart.com
SUMMARY:August 2024 Art & Spirits at The MAC
DESCRIPTION:“Mason Jar Sunshine”\n\n\n\n\n\n\n\n\n\n\n\n\n\nArt & Spirits at The MAC\n“Mason Jar Sunshine”\nAugust 16\, 2024\n5:30 – 8:30 pm\nLed by Artist Jackie Anderson\n\n\n\n\n\n\n\n\n\n\n\n\n\n\nTreat yourself to the essence of country charm and warm\, lazy summer days with this delightful painting of a mason jar vase with vibrant hibiscus flowers set against a weathered barn. Season artists and beginners are welcome!  All materials and snacks and beverages are provided.\n\n\nJoin us!\n\n\nSeating is limited.  Use the QR code below to reserve your spot\, or sign up from here on our website:   Sign Up for Art and Spirits – arborgalleryfineart.com\n\n\n\n\n\n\n\n\n\n\n\n\n\n \n\n\n\n\n\n\n\n\n\n\n\n\n  \n 
URL:https://arborgalleryfineart.com/index.php/event/august-2024-art-spirits-at-the-mac/
LOCATION:Arbor Gallery\, 645 W Main Street\, Merced\, California\, 95340\, United States
CATEGORIES:Art & Spirits,Art Education,Community Event
ATTACH;FMTTYPE=image/jpeg:https://arborgalleryfineart.com/wp-content/uploads/2024/07/20240720_001330.jpg
ORGANIZER;CN="Arbor Gallery":MAILTO:arborgalleryfineart@gmail.com
END:VEVENT
BEGIN:VEVENT
DTSTART;TZID=America/Los_Angeles:20240719T173000
DTEND;TZID=America/Los_Angeles:20240719T203000
DTSTAMP:20260425T180057
CREATED:20240623T032334Z
LAST-MODIFIED:20240623T032408Z
UID:2198-1721410200-1721421000@arborgalleryfineart.com
SUMMARY:July 2024 Art & Spirits at The MAC
DESCRIPTION:“Deep Sea Dance”\n\n\n\n\n\n\n\n\n\n\n\n\n\n\n\nArt & Spirits at The MAC\n“Deep Sea Dance”\nJuly 19\, 2024\n5:30 – 8:30 pm\nLet by Artist Karen McComb\n\n\n\n\n\n\n\n\n\nUnwind at our upcoming paint night! This session\, you’ll be guided step-by-step by artist Karen McComb. Treat yourself to this enchanting and playful octopus\, bursting with warm hues and set against cool ocean blues. Seasoned artists and beginners are welcome! All materials are provided\, so just bring yourself and a smile. Don’t miss out on this chance to create and connect!\n\nDate: July 19\, 2024Time: 5:30 – 8:30 pmLocation: 645 W Main Street\, Merced\, CA 95340Cost: $35 per person\n\nSeating is limited! Use the QR code below to reserve your spot\,  Sign Up for Art and Spirits – arborgalleryfineart.com or visit us on Facebook https://www.facebook.com/events/7577284595732228/\n\n\n\n \n\n\n\n\n\n\n\n\n\n\n\n\n  \n 
URL:https://arborgalleryfineart.com/index.php/event/july-2024-art-spirits-at-the-mac-2/
LOCATION:Arbor Gallery\, 645 W Main Street\, Merced\, California\, 95340\, United States
CATEGORIES:Art & Spirits,Art Education
ATTACH;FMTTYPE=image/jpeg:https://arborgalleryfineart.com/wp-content/uploads/2024/06/8L3A9490.jpg
ORGANIZER;CN="Arbor Gallery":MAILTO:arborgalleryfineart@gmail.com
END:VEVENT
BEGIN:VEVENT
DTSTART;TZID=America/Los_Angeles:20240621T173000
DTEND;TZID=America/Los_Angeles:20240621T203000
DTSTAMP:20260425T180057
CREATED:20240526T230515Z
LAST-MODIFIED:20240529T192402Z
UID:2113-1718991000-1719001800@arborgalleryfineart.com
SUMMARY:June 2024 Art & Spirits at The MAC
DESCRIPTION:“Rustic Cottage”\n\n\n\n\n\n\n\n\n\n\n\n\n\n\nArt & Spirits at The MAC\n“Rustic Cottage”\nJune 21\, 2024\n5:30 – 8:30 pm\nLet by Artist Ethel Nelson\n\n\n\n\n\n\n\n\nPaint this charming and quaint countryside retreat as you sip on your favorite drinks and savor delectable bites. Artist Ethel Nelson will guide you step by step on as you paint “Rustic Cottage” featuring a cheerful blue shutter and cascading flowers that climb up its walls and roof. This painting beautifully combines simplicity and elegance\, making it a perfect subject for artists of all levels to explore and enjoy.\n\n\nSeating is limited!  Call Arbor Gallery 209-384-8338 to reserve your spot now for an unforgettable evening of art\, spirits\, and fun!\n  \n\n\n\n\n\n\n\n\n\n\n\n\n  \n 
URL:https://arborgalleryfineart.com/index.php/event/june-2024-art-spirits-at-the-mac/
LOCATION:Arbor Gallery\, 645 W Main Street\, Merced\, California\, 95340\, United States
CATEGORIES:Art & Spirits,Art Education,Fundraiser
ATTACH;FMTTYPE=image/jpeg:https://arborgalleryfineart.com/wp-content/uploads/2024/05/June-2024-Arts-Spirits-1.jpg
ORGANIZER;CN="Arbor Gallery":MAILTO:arborgalleryfineart@gmail.com
END:VEVENT
BEGIN:VEVENT
DTSTART;TZID=America/Los_Angeles:20240517T173000
DTEND;TZID=America/Los_Angeles:20240517T203000
DTSTAMP:20260425T180057
CREATED:20240423T052355Z
LAST-MODIFIED:20240423T053204Z
UID:1917-1715967000-1715977800@arborgalleryfineart.com
SUMMARY:May 2024 Art & Spirits at The MAC
DESCRIPTION:“Spring Beauty”\n\n\n\n\n\n\n\n\n\n\n\n\n\n\nArt & Spirits at The MAC\n“Spring Beauty”\nMay 17\, 2024\n5:30 – 8:30 pm\nLet by Artist Rose Vialpando Tripp\n\n\n\n\n\n\n\n\n\nIndulge your senses at our exclusive “Art and Spirits” event\, where creativity meets camaraderie! Artist Rose Vialpando Tripp will lead you on a springtime journey as you sip on your favorite drinks and savor delectable bites. Get ready to paint “Spring Beauty” – a captivating composition of pink tulips against a dramatic black canvas – guided by Rose’s expertise and encouragement. Embrace your individuality and craft a truly unique masterpiece to take home with you\, infused with your personal style and flair. Reserve your spot now for an unforgettable evening of art\, spirits\, and fun!\n\n\n\n$35 per person\nIncludes supplies\, snack and drinks\nCall Bo at 209-388-1090 to reserve your spot now!\n  \nArt & Spirits is an Arbor Gallery Fundraiser in partnership with The Merced County Art Council \n\n\n\n\n\n\n\n\n\n\n\n\n  \n 
URL:https://arborgalleryfineart.com/index.php/event/april-2024-art-spirits-at-the-mac-2/
LOCATION:The MAC\, 645 W Main Street\, Merced\, CA\, 95340\, United States
CATEGORIES:Art & Spirits,Art Education,Fundraiser
ATTACH;FMTTYPE=image/jpeg:https://arborgalleryfineart.com/wp-content/uploads/2024/04/May-2024-Arts-Spirits-header.jpg
ORGANIZER;CN="Arbor Gallery":MAILTO:arborgalleryfineart@gmail.com
END:VEVENT
BEGIN:VEVENT
DTSTART;TZID=America/Los_Angeles:20240419T173000
DTEND;TZID=America/Los_Angeles:20240419T203000
DTSTAMP:20260425T180057
CREATED:20240324T143302Z
LAST-MODIFIED:20240411T012616Z
UID:1741-1713547800-1713558600@arborgalleryfineart.com
SUMMARY:April 2024 Art & Spirits at The MAC
DESCRIPTION:“Sunset for the Caboose – 1984” \n \nApril 19\, 2024\n5:30 – 8:30 pm\nLed by Artist John Harrell \nReserve your spot now! Artist John Harrell will guide you through painting this delightful scene of a quirky caboose on the tracks\, heading into the enchanting hues of a sunset sky. With soft purples and blues dancing alongside bold strokes of gold\, this painting radiates whimsy and wonder. Sip and snack on delightful refreshments during a fun-filled evening with your besties. Join us for another magical journey at our Art and Spirits paint night!\n\n\n\n\n\n\n\n\n\n\n\n\n$35 per person includes supplies\, snacks and drinks. \n\n\n\n\n\n\n\n\n\n\n\n\nCall Arbor Gallery @209-384-8338 to reserve your spot. \n  \n 
URL:https://arborgalleryfineart.com/index.php/event/april-2024-art-spirits-at-the-mac/
LOCATION:The MAC\, 645 W Main Street\, Merced\, CA\, 95340\, United States
CATEGORIES:Art & Spirits,Art Education,Fundraiser
ATTACH;FMTTYPE=image/jpeg:https://arborgalleryfineart.com/wp-content/uploads/2024/03/Art-Spirits-John-Harrell-Caboose.jpg
ORGANIZER;CN="Arbor Gallery":MAILTO:arborgalleryfineart@gmail.com
END:VEVENT
BEGIN:VEVENT
DTSTART;TZID=America/Los_Angeles:20240315T173000
DTEND;TZID=America/Los_Angeles:20240315T203000
DTSTAMP:20260425T180057
CREATED:20240218T013327Z
LAST-MODIFIED:20240218T013327Z
UID:1542-1710523800-1710534600@arborgalleryfineart.com
SUMMARY:March 2024 Art & Spirits at The MAC
DESCRIPTION:“Moonlight Dream” \n\n\n\n\n\n\n\n\n\n\n\n\nArt & Spirits at The MAC\n“Moonlight Dream”\nMarch 15\, 2024\n5:30 – 8:30 pm\nLet by Artist Tonia Hemme\n\nMark your calendar for a not-to-be-missed Art & Spirits! Artist Tonia Hemme will guide you through painting the dreamy vibes and rich\, jewel-toned colors of “Moonlight Dream”. This unique seascape features a sailboat set against the backdrop of an ethereal moonlit sea and beautifully curving waves. Reserve your spot now for a night to remember!\n\n$35 per person\nIncludes supplies\, snack and drinks\nCall Cyndi @ 209-388-1090 to reserve your spot\nArt & Spirits is an Arbor Gallery Fundraiser with all proceeds donated the Merced County Art Council \n\n\n\n\n\n\n\n\n\n\n\n\n  \n 
URL:https://arborgalleryfineart.com/index.php/event/march-2024-art-spirits-at-the-mac/
LOCATION:The MAC\, 645 W Main Street\, Merced\, CA\, 95340\, United States
CATEGORIES:Art & Spirits,Art Education,Fundraiser
ATTACH;FMTTYPE=image/jpeg:https://arborgalleryfineart.com/wp-content/uploads/2024/02/Mar-2024-Arts-Spirits-template_1000x524_H_100_Full-resolution.jpg
ORGANIZER;CN="Arbor Gallery":MAILTO:arborgalleryfineart@gmail.com
END:VEVENT
BEGIN:VEVENT
DTSTART;TZID=America/Los_Angeles:20240216T173000
DTEND;TZID=America/Los_Angeles:20240216T203000
DTSTAMP:20260425T180057
CREATED:20240122T182932Z
LAST-MODIFIED:20240122T182932Z
UID:1240-1708104600-1708115400@arborgalleryfineart.com
SUMMARY:February 2024 Art & Spirits at The MAC
DESCRIPTION:“Shamrock Shenanigans” \n\n\n\n\n\n\n\n\n\n\n\n\nGet ready for an evening of shenanigans and color as artist Carole Kamerer guides you through “Shamrock Shenanigans” at Art and Spirits!  This one-of-a-kind painting brings the St. Patrick’s Day spirit to life with a charming goat dressed for St. Patty’s Day in lush greens and royal purple and gold details.  Sip on spirits\, unleash your inner artist\, and revel in the fusion of a mischievous goat sporting Irish spirit. \n$35 per person includes supplies\, snacks and drinks. \n\n\n\n\n\n\n\n\n\n\n\n\nCall Cyndi @209-388-1090 to reserve your spot. \nArt & Spirits is an Arbor Gallery Fundraiser with all proceeds donated the Merced County Art Council. \n  \n 
URL:https://arborgalleryfineart.com/index.php/event/february-2024-art-spirits-at-the-mac/
LOCATION:The MAC\, 645 W Main Street\, Merced\, CA\, 95340\, United States
CATEGORIES:Art & Spirits,Art Education,Fundraiser
ATTACH;FMTTYPE=image/jpeg:https://arborgalleryfineart.com/wp-content/uploads/2024/01/Art-Spirits-Shamrock-Shenanigans-scaled.jpg
ORGANIZER;CN="Arbor Gallery":MAILTO:arborgalleryfineart@gmail.com
END:VEVENT
BEGIN:VEVENT
DTSTART;TZID=America/Los_Angeles:20240119T173000
DTEND;TZID=America/Los_Angeles:20240119T203000
DTSTAMP:20260425T180057
CREATED:20240111T223736Z
LAST-MODIFIED:20240111T232305Z
UID:1090-1705685400-1705696200@arborgalleryfineart.com
SUMMARY:January 2024 Art & Spirits at The MAC
DESCRIPTION:“Stacking Cups Mania” \nJoin us for a fun-filled Art and Spirits night of vibrant colors as artist Jackie Anderson guides you through the creation of the whimsical world of brightly colored coffee cups! Enjoy the camaraderie as you enjoy a delightful evening of painting\, laughter and of course\, sipping your favorite beverages.  No prior artistic experience is necessary – just bring your enthusiasm and let the colorful coffee cups come to life on your canvas. \n$35 per person includes supplies\, snacks and drinks. \nCall Cyndi @209-388-1090 to reserve your spot. \nArt & Spirits is an Arbor Gallery Fundraiser with all proceeds donated the Merced County Art Council. \n  \n 
URL:https://arborgalleryfineart.com/index.php/event/art-spirits-at-the-mac/
LOCATION:The MAC\, 645 W Main Street\, Merced\, CA\, 95340\, United States
CATEGORIES:Art & Spirits
ATTACH;FMTTYPE=image/jpeg:https://arborgalleryfineart.com/wp-content/uploads/2023/12/Art-Spirits-Jan-2024.jpg
ORGANIZER;CN="Arbor Gallery":MAILTO:arborgalleryfineart@gmail.com
END:VEVENT
END:VCALENDAR