BEGIN:VCALENDAR
VERSION:2.0
PRODID:-//arborgalleryfineart.com - ECPv6.6.0.2//NONSGML v1.0//EN
CALSCALE:GREGORIAN
METHOD:PUBLISH
X-WR-CALNAME:arborgalleryfineart.com
X-ORIGINAL-URL:https://arborgalleryfineart.com
X-WR-CALDESC:Events for arborgalleryfineart.com
REFRESH-INTERVAL;VALUE=DURATION:PT1H
X-Robots-Tag:noindex
X-PUBLISHED-TTL:PT1H
BEGIN:VTIMEZONE
TZID:America/Los_Angeles
BEGIN:DAYLIGHT
TZOFFSETFROM:-0800
TZOFFSETTO:-0700
TZNAME:PDT
DTSTART:20240310T100000
END:DAYLIGHT
BEGIN:STANDARD
TZOFFSETFROM:-0700
TZOFFSETTO:-0800
TZNAME:PST
DTSTART:20241103T090000
END:STANDARD
END:VTIMEZONE
BEGIN:VEVENT
DTSTART;TZID=America/Los_Angeles:20240315T173000
DTEND;TZID=America/Los_Angeles:20240315T203000
DTSTAMP:20260421T073459
CREATED:20240218T013327Z
LAST-MODIFIED:20240218T013327Z
UID:1542-1710523800-1710534600@arborgalleryfineart.com
SUMMARY:March 2024 Art & Spirits at The MAC
DESCRIPTION:“Moonlight Dream” \n\n\n\n\n\n\n\n\n\n\n\n\nArt & Spirits at The MAC\n“Moonlight Dream”\nMarch 15\, 2024\n5:30 – 8:30 pm\nLet by Artist Tonia Hemme\n\nMark your calendar for a not-to-be-missed Art & Spirits! Artist Tonia Hemme will guide you through painting the dreamy vibes and rich\, jewel-toned colors of “Moonlight Dream”. This unique seascape features a sailboat set against the backdrop of an ethereal moonlit sea and beautifully curving waves. Reserve your spot now for a night to remember!\n\n$35 per person\nIncludes supplies\, snack and drinks\nCall Cyndi @ 209-388-1090 to reserve your spot\nArt & Spirits is an Arbor Gallery Fundraiser with all proceeds donated the Merced County Art Council \n\n\n\n\n\n\n\n\n\n\n\n\n  \n 
URL:https://arborgalleryfineart.com/index.php/event/march-2024-art-spirits-at-the-mac/
LOCATION:The MAC\, 645 W Main Street\, Merced\, CA\, 95340\, United States
CATEGORIES:Art & Spirits,Art Education,Fundraiser
ATTACH;FMTTYPE=image/jpeg:https://arborgalleryfineart.com/wp-content/uploads/2024/02/Mar-2024-Arts-Spirits-template_1000x524_H_100_Full-resolution.jpg
ORGANIZER;CN="Arbor Gallery":MAILTO:arborgalleryfineart@gmail.com
END:VEVENT
END:VCALENDAR